Workbook

Sheet Δεδομένα
A1: Barcode | B1: Κωδικός Προϊόντος | C1: Όνομα Προϊόντος | D1: Κατηγορία | E1: Μονάδα | F1: Τιμή αγοράς | G1: Περιθώριο κέρδους % | H1: Τιμή πώλησης | I1: ΦΠΑ % | J1: Πώληση με ΦΠΑ | K1: Κέρδος μονάδας | L1: Προμηθευτής | M1: Ισχύς
A2: 8690000000018 | B2: SK-001 | C2: Χαρτί Φωτοτυπιών A4 80gr | D2: Χαρτικά | E2: Πακέτο | F2: 96.5 | G2: 45 | H2: ==IF(F2="","",F2*(1+G2/100)) | I2: 20 | J2: ==IF(F2="","",H2*(1+I2/100)) | K2: ==IF(F2="","",H2-F2) | L2: Χονδρέμπορος Α.Ε. | M2: 46387
A3: 8690000000025 | B3: SK-002 | C3: Χλωρίνη 4 Lt | D3: Καθαριότητα | E3: Τεμ. | F3: 74.9 | G3: 47 | H3: ==IF(F3="","",F3*(1+G3/100)) | I3: 20 | J3: ==IF(F3="","",H3*(1+I3/100)) | K3: ==IF(F3="","",H3-F3) | L3: Öz Kimya | M3: 46387
A4: 8690000000032 | B4: SK-003 | C4: Θερμικό ρολό 80x60 | D4: Χαρτικά | E4: Κουτί | F4: 310 | G4: 45 | H4: ==IF(F4="","",F4*(1+G4/100)) | I4: 20 | J4: ==IF(F4="","",H4*(1+I4/100)) | K4: ==IF(F4="","",H4-F4) | L4: Χονδρέμπορος Α.Ε. | M4: 46387
A5: 8690000000049 | B5: SK-004 | C5: Μεμβράνη Περιτυλίγματος 45cm | D5: Συσκευασία | E5: Τεμ. | F5: 128 | G5: 48 | H5: ==IF(F5="","",F5*(1+G5/100)) | I5: 20 | J5: ==IF(F5="","",H5*(1+I5/100)) | K5: ==IF(F5="","",H5-F5) | L5: Paket Ambalaj | M5: 46387
A6: 8690000000056 | B6: SK-005 | C6: USB Stick 64 GB | D6: Ηλεκτρονικά | E6: Τεμ. | F6: 189 | G6: 48 | H6: ==IF(F6="","",F6*(1+G6/100)) | I6: 20 | J6: ==IF(F6="","",H6*(1+I6/100)) | K6: ==IF(F6="","",H6-F6) | L6: Tekno Dağıtım | M6: 46387
H7: ==IF(F7="","",F7*(1+G7/100)) | J7: ==IF(F7="","",H7*(1+I7/100)) | K7: ==IF(F7="","",H7-F7)
H8: ==IF(F8="","",F8*(1+G8/100)) | J8: ==IF(F8="","",H8*(1+I8/100)) | K8: ==IF(F8="","",H8-F8)
H9: ==IF(F9="","",F9*(1+G9/100)) | J9: ==IF(F9="","",H9*(1+I9/100)) | K9: ==IF(F9="","",H9-F9)
H10: ==IF(F10="","",F10*(1+G10/100)) | J10: ==IF(F10="","",H10*(1+I10/100)) | K10: ==IF(F10="","",H10-F10)
H11: ==IF(F11="","",F11*(1+G11/100)) | J11: ==IF(F11="","",H11*(1+I11/100)) | K11: ==IF(F11="","",H11-F11)
H12: ==IF(F12="","",F12*(1+G12/100)) | J12: ==IF(F12="","",H12*(1+I12/100)) | K12: ==IF(F12="","",H12-F12)
H13: ==IF(F13="","",F13*(1+G13/100)) | J13: ==IF(F13="","",H13*(1+I13/100)) | K13: ==IF(F13="","",H13-F13)
H14: ==IF(F14="","",F14*(1+G14/100)) | J14: ==IF(F14="","",H14*(1+I14/100)) | K14: ==IF(F14="","",H14-F14)
H15: ==IF(F15="","",F15*(1+G15/100)) | J15: ==IF(F15="","",H15*(1+I15/100)) | K15: ==IF(F15="","",H15-F15)
H16: ==IF(F16="","",F16*(1+G16/100)) | J16: ==IF(F16="","",H16*(1+I16/100)) | K16: ==IF(F16="","",H16-F16)
H17: ==IF(F17="","",F17*(1+G17/100)) | J17: ==IF(F17="","",H17*(1+I17/100)) | K17: ==IF(F17="","",H17-F17)
H18: ==IF(F18="","",F18*(1+G18/100)) | J18: ==IF(F18="","",H18*(1+I18/100)) | K18: ==IF(F18="","",H18-F18)
... H300: ==IF(F300="","",F300*(1+G300/100)) | J300: ==IF(F300="","",H300*(1+I300/100)) | K300: ==IF(F300="","",H300-F300)

Sheet Σύνοψη
B2: Πρότυπο Excel τιμοκαταλόγου προϊόντων
B3: Δωρεάν πρότυπο Excel · stokexcel.com
B5: ΣΥΝΟΨΗ | E5: ΠΩΣ ΧΡΗΣΙΜΟΠΟΙΕΙΤΑΙ;
B6: Αριθμός προϊόντων στη λίστα | C6: =COUNTA('Δεδομένα'!C2:C300) | E6: 1. Αρκεί να γράψετε την τιμή αγοράς και το περιθώριο κέρδους· η τιμή πώλησης υπολογίζεται αυτόματα.
B7: Μέσο περιθώριο κέρδους | C7: =IFERROR(AVERAGE('Δεδομένα'!G2:G300),0) | E7: 2. Μόλις εισάγετε τον συντελεστή ΦΠΑ, η τιμή ραφιού με ΦΠΑ δημιουργείται αυτόματα.
B8: Μέση τιμή αγοράς | C8: =IFERROR(AVERAGE('Δεδομένα'!F2:F300),0) | E8: 3. Οι γραμμές με περιθώριο κάτω από 10% χρωματίζονται κόκκινες και πάνω από 40% πράσινες.
B9: Μέση τιμή πώλησης | C9: =IFERROR(AVERAGE('Δεδομένα'!H2:H300),0) | E9: 4. Αν συμπληρώσετε τη στήλη Barcode, μπορείτε να αντιστοιχίσετε τη λίστα με σαρωτή barcode.
B10: Ψηλότερη τιμή με ΦΠΑ | C10: =MAX('Δεδομένα'!J2:J300) | E10: 5. Για την εκτύπωση η σελίδα είναι ρυθμισμένη σε οριζόντιο προσανατολισμό και να χωράει σε μία σελίδα.
B11: Συνολικό κέρδος μονάδας | C11: =SUM('Δεδομένα'!K2:K300)
E12: Όταν το Excel δεν αρκεί: Ofisx στο cloud, από το κινητό, αυτόματα →

Sheet Λίστες
A1: Κατηγορία | B1: Μονάδα
A2: Χαρτικά | B2: Τεμ.
A3: Καθαριότητα | B3: Kg
A4: Τρόφιμα | B4: Lt
A5: Ηλεκτρονικά | B5: Κουτί
A6: Συσκευασία | B6: Πακέτο
A7: Άλλο
