Workbook

Sheet Деректер
A1: Бекіту № | B1: Қызметкерлер | C1: Бөлім | D1: Мүлік коды | E1: Мүлік атауы | F1: Санат | G1: Сериялық / Штрихкод № | H1: Дана | I1: Бірлік құны (₺) | J1: Жалпы құны (₺) | K1: Бекіту күні | L1: Жоспарланған қайтару | M1: Қайтару күні | N1: Күйі
A2: ZM-001 | B2: Ahmet Yıldırım | C2: Далалық сату | D2: DB-1042 | E2: Ноутбук 14 дюйм | F2: Компьютер | G2: SN-8842119 | H2: 1 | I2: 21500 | J2: ==IF(A2="","",H2*I2) | K2: 46084 | L2: 46387 | N2: ==IF(A2="","",IF(M2<>"","ҚАЙТАРЫЛДЫ",IF(AND(L2<>"",L2<TODAY()),"КЕШІКТІ","БЕКІТІЛГЕН")))
A3: ZM-002 | B3: Elif Kaya | C3: Қойма | D3: DB-1108 | E3: Қол терминалы штрихкод сканері | F3: Қойма жабдығы | G3: SN-5510477 | H3: 1 | I3: 7450 | J3: ==IF(A3="","",H3*I3) | K3: 46154 | L3: 46356 | N3: ==IF(A3="","",IF(M3<>"","ҚАЙТАРЫЛДЫ",IF(AND(L3<>"",L3<TODAY()),"КЕШІКТІ","БЕКІТІЛГЕН")))
A4: ZM-003 | B4: Murat Şahin | C4: Далалық қызмет | D4: DB-1155 | E4: Аккумуляторлық бұрғы жинағы | F4: Құрал / Жиынтық | G4: SN-2298031 | H4: 1 | I4: 4900 | J4: ==IF(A4="","",H4*I4) | K4: 46205 | L4: 46249 | N4: ==IF(A4="","",IF(M4<>"","ҚАЙТАРЫЛДЫ",IF(AND(L4<>"",L4<TODAY()),"КЕШІКТІ","БЕКІТІЛГЕН")))
A5: ZM-004 | B5: Zeynep Arslan | C5: Кеңсе | D5: DB-1071 | E5: Корпоративтік ұялы телефон | F5: Телефон | G5: SN-7731900 | H5: 1 | I5: 18900 | J5: ==IF(A5="","",H5*I5) | K5: 46042 | L5: 46223 | M5: 46221 | N5: ==IF(A5="","",IF(M5<>"","ҚАЙТАРЫЛДЫ",IF(AND(L5<>"",L5<TODAY()),"КЕШІКТІ","БЕКІТІЛГЕН")))
A6: ZM-005 | B6: Hasan Demir | C6: Қойма | D6: DB-1203 | E6: Еңбек қауіпсіздігі киімі (жазғы) | F6: Киім / ЖҚҚ | H6: 3 | I6: 850 | J6: ==IF(A6="","",H6*I6) | K6: 46174 | N6: ==IF(A6="","",IF(M6<>"","ҚАЙТАРЫЛДЫ",IF(AND(L6<>"",L6<TODAY()),"КЕШІКТІ","БЕКІТІЛГЕН")))
J7: ==IF(A7="","",H7*I7) | N7: ==IF(A7="","",IF(M7<>"","ҚАЙТАРЫЛДЫ",IF(AND(L7<>"",L7<TODAY()),"КЕШІКТІ","БЕКІТІЛГЕН")))
J8: ==IF(A8="","",H8*I8) | N8: ==IF(A8="","",IF(M8<>"","ҚАЙТАРЫЛДЫ",IF(AND(L8<>"",L8<TODAY()),"КЕШІКТІ","БЕКІТІЛГЕН")))
J9: ==IF(A9="","",H9*I9) | N9: ==IF(A9="","",IF(M9<>"","ҚАЙТАРЫЛДЫ",IF(AND(L9<>"",L9<TODAY()),"КЕШІКТІ","БЕКІТІЛГЕН")))
J10: ==IF(A10="","",H10*I10) | N10: ==IF(A10="","",IF(M10<>"","ҚАЙТАРЫЛДЫ",IF(AND(L10<>"",L10<TODAY()),"КЕШІКТІ","БЕКІТІЛГЕН")))
J11: ==IF(A11="","",H11*I11) | N11: ==IF(A11="","",IF(M11<>"","ҚАЙТАРЫЛДЫ",IF(AND(L11<>"",L11<TODAY()),"КЕШІКТІ","БЕКІТІЛГЕН")))
J12: ==IF(A12="","",H12*I12) | N12: ==IF(A12="","",IF(M12<>"","ҚАЙТАРЫЛДЫ",IF(AND(L12<>"",L12<TODAY()),"КЕШІКТІ","БЕКІТІЛГЕН")))
J13: ==IF(A13="","",H13*I13) | N13: ==IF(A13="","",IF(M13<>"","ҚАЙТАРЫЛДЫ",IF(AND(L13<>"",L13<TODAY()),"КЕШІКТІ","БЕКІТІЛГЕН")))
J14: ==IF(A14="","",H14*I14) | N14: ==IF(A14="","",IF(M14<>"","ҚАЙТАРЫЛДЫ",IF(AND(L14<>"",L14<TODAY()),"КЕШІКТІ","БЕКІТІЛГЕН")))
J15: ==IF(A15="","",H15*I15) | N15: ==IF(A15="","",IF(M15<>"","ҚАЙТАРЫЛДЫ",IF(AND(L15<>"",L15<TODAY()),"КЕШІКТІ","БЕКІТІЛГЕН")))
J16: ==IF(A16="","",H16*I16) | N16: ==IF(A16="","",IF(M16<>"","ҚАЙТАРЫЛДЫ",IF(AND(L16<>"",L16<TODAY()),"КЕШІКТІ","БЕКІТІЛГЕН")))
J17: ==IF(A17="","",H17*I17) | N17: ==IF(A17="","",IF(M17<>"","ҚАЙТАРЫЛДЫ",IF(AND(L17<>"",L17<TODAY()),"КЕШІКТІ","БЕКІТІЛГЕН")))
J18: ==IF(A18="","",H18*I18) | N18: ==IF(A18="","",IF(M18<>"","ҚАЙТАРЫЛДЫ",IF(AND(L18<>"",L18<TODAY()),"КЕШІКТІ","БЕКІТІЛГЕН")))
... J300: ==IF(A300="","",H300*I300) | N300: ==IF(A300="","",IF(M300<>"","ҚАЙТАРЫЛДЫ",IF(AND(L300<>"",L300<TODAY()),"КЕШІКТІ","БЕКІТІЛГЕН")))

Sheet Қорытынды
B2: Мүлікті бекітуді бақылау Excel үлгісі
B3: Тегін Excel үлгісі · stokexcel.com
B5: ҚОРЫТЫНДЫ | E5: ҚАЛАЙ ПАЙДАЛАНАМЫЗ?
B6: Бекіту жазбаларының саны | C6: =COUNTA('Деректер'!A2:A300) | E6: 1. Әр жол — бір бекіту: кімге, қандай мүлік, неше дана, қашан берілді.
B7: Мүлік бекітілген қызметкерлер саны | C7: =SUMPRODUCT(('Деректер'!B2:B300<>"")/COUNTIF('Деректер'!B2:B300,'Деректер'!B2:B300&"")) | E7: 2. Жоспарланған қайтару күнін жазыңыз; күн өтсе де Қайтару күні бос болса, жол қызылға боялады.
B8: Қызметкерлерде тұрған мүлік құны | C8: =SUMIF('Деректер'!N2:N300,"БЕКІТІЛГЕН",'Деректер'!J2:J300)+SUMIF('Деректер'!N2:N300,"КЕШІКТІ",'Деректер'!J2:J300) | E8: 3. Мүлік қайтарылғанда Қайтару күнін толтырыңыз; күй өздігінен «ҚАЙТАРЫЛДЫ» болады.
B9: Қайтарылуы кешіккен бекіту | C9: =COUNTIF('Деректер'!N2:N300,"КЕШІКТІ") | E9: 4. Жалпы құны бағаны Саны × Бірлік құны ретінде автоматты есептеледі.
B10: Қайтарылған бекіту | C10: =COUNTIF('Деректер'!N2:N300,"ҚАЙТАРЫЛДЫ") | E10: 5. Сүзгі көрсеткілерімен қызметкер, бөлім немесе күй бойынша сүзіп, бекіту актісін басып шығарыңыз.
B11: Мүліктің жалпы құны | C11: =SUM('Деректер'!J2:J300)
E12: Excel жетпегенде: Ofisx арқылы бұлтта, телефоннан, автоматты түрде →

Sheet Тізімдер
A1: Бөлім | B1: Санат
A2: Кеңсе | B2: Компьютер
A3: Қойма | B3: Телефон
A4: Далалық сату | B4: Көлік
A5: Далалық қызмет | B5: Қойма жабдығы
A6: Өндіріс | B6: Құрал / Жиынтық
A7: Бухгалтерия | B7: Жиһаз
A8: Басшылық | B8: Киім / ЖҚҚ
A9: Басқа | B9: Басқа
